BEGIN:VCALENDAR
VERSION:2.0
PRODID:-//Tukios.com/
BEGIN:VEVENT
UID:cdf341c7-f2f2-4699-92b5-6e84a79347bd@www.butlerfh.com
DTSTAMP:20260423T205700Z
DTSTART:20260430T144500Z
DTEND:20260430T154500Z
SUMMARY:Funeral Service
DESCRIPTION:
URL:https://www.butlerfh.com/obituaries/walter-howell
LOCATION:Butler Funeral Home Chapel 6535 Clinton Road  Stedman NC 28391
GEO:35.0191639;-78.7165307
END:VEVENT
END:VCALENDAR