BEGIN:VCALENDAR
VERSION:2.0
PRODID:-//Tukios.com/
BEGIN:VEVENT
UID:638ce62d-fe2e-4967-b52f-f05a8f944488@www.butlerfh.com
DTSTAMP:20260423T205827Z
DTSTART:20260430T140000Z
DTEND:20260430T144500Z
SUMMARY:Visitation
DESCRIPTION:
URL:https://www.butlerfh.com/obituaries/walter-howell
LOCATION:Butler Funeral Home Chapel 6535 Clinton Road  Stedman NC 28391
GEO:35.0191639;-78.7165307
END:VEVENT
END:VCALENDAR