BEGIN:VCALENDAR
VERSION:2.0
PRODID:-//Tukios.com/
BEGIN:VEVENT
UID:71bb4dc5-a5cf-49b8-8e65-409497c1d858@www.butlerfh.com
DTSTAMP:20260424T000456Z
DTSTART:20260502T200000Z
DTEND:20260502T210000Z
SUMMARY:Funeral Service
DESCRIPTION:
URL:https://www.butlerfh.com/obituaries/sadie-bigsby
LOCATION:Butler Funeral Home Chapel 6535 Clinton Road  Stedman NC 28391
GEO:35.0191639;-78.7165307
END:VEVENT
END:VCALENDAR