BEGIN:VCALENDAR
VERSION:2.0
PRODID:-//Tukios.com/
BEGIN:VEVENT
UID:4545c3cb-f919-434c-9180-a4d4f30a408e@www.butlerfh.com
DTSTAMP:20260424T000335Z
DTSTART:20260502T190000Z
DTEND:20260502T195000Z
SUMMARY:Visitation
DESCRIPTION:
URL:https://www.butlerfh.com/obituaries/sadie-bigsby
LOCATION: 6535 Clinton Rd  Stedman NC 28391
GEO:35.0191639;-78.7165307
END:VEVENT
END:VCALENDAR