BEGIN:VCALENDAR
VERSION:2.0
PRODID:-//Tukios.com/
BEGIN:VEVENT
UID:95f135e7-57d4-40a6-b2dc-4d7daf203baa@www.butlerfh.com
DTSTAMP:20260419T130018Z
DTSTART:20260304T210000Z
DTEND:20260304T220000Z
SUMMARY:Burial
DESCRIPTION:
URL:https://www.butlerfh.com/obituaries/noter-short
LOCATION:Davis-Melvin Cemetery Burney Road  White Oak NC 28399
GEO:34.7393674;-78.7277361
END:VEVENT
END:VCALENDAR