BEGIN:VCALENDAR
VERSION:2.0
PRODID:-//Tukios.com/
BEGIN:VEVENT
UID:489e0112-862d-45f5-bef7-73a8f3be45c6@www.butlerfh.com
DTSTAMP:20260421T081503Z
DTSTART:20260304T200000Z
DTEND:20260304T210000Z
SUMMARY:Funeral Service
DESCRIPTION:
URL:https://www.butlerfh.com/obituaries/noter-short
LOCATION:Love Grove Baptist Church 50 Main Street  Tar Heel NC 28392
GEO:34.732294;-78.790797
END:VEVENT
END:VCALENDAR