BEGIN:VCALENDAR
VERSION:2.0
PRODID:-//Tukios.com/
BEGIN:VEVENT
UID:55fa1add-6648-4c4e-95d7-d3bb8a03f10b@www.butlerfh.com
DTSTAMP:20260423T210931Z
DTSTART:20260425T140000Z
DTEND:20260425T150000Z
SUMMARY:Visitation
DESCRIPTION:
URL:https://www.butlerfh.com/obituaries/louis-pender-sr
LOCATION:Stedman Church of God of Prophecy 5371 North Carolina 210  
	Stedman NC 28391
GEO:34.9820961;-78.7358893
END:VEVENT
END:VCALENDAR