BEGIN:VCALENDAR
VERSION:2.0
PRODID:-//Tukios.com/
BEGIN:VEVENT
UID:376544e0-75b4-458e-8d37-938b482b444a@www.butlerfh.com
DTSTAMP:20260423T210903Z
DTSTART:20260425T150000Z
DTEND:20260425T160000Z
SUMMARY:Celebration of Life
DESCRIPTION:
URL:https://www.butlerfh.com/obituaries/louis-pender-sr
LOCATION:Stedman Church of God of Prophecy 5371 North Carolina 210  
	Stedman NC 28391
GEO:34.9820961;-78.7358893
END:VEVENT
END:VCALENDAR